BEGIN:VCALENDAR
VERSION:2.0
CALSCALE:GREGORIAN
PRODID:-//MyApp//Calendar 1.0//EN
BEGIN:VEVENT
METHOD:PUBLISH
UID:32126@regionalniportaly.cz
DTSTAMP:20260421T191523Z
DTSTART;VALUE=DATE:20230428
DTEND;VALUE=DATE:20230429
SUMMARY:Gaia Mesiah
DESCRIPTION:Gaia Mesiah vydává&nbsp\;páté řadové album\, ke kterému jede&nbsp\;jarní turné\, čítající 21 koncertů napříč celou republikou\, přičemž zaskočí&nbsp\;i na Slovensko a do Německa.Je jasné \,že v cestě jim stojí klub Mír \,takže tady&nbsp\;udělají plnotučné a brutálně živelné show.
LOCATION:Uherské Hradiště
END:VEVENT
END:VCALENDAR