BEGIN:VCALENDAR
VERSION:2.0
CALSCALE:GREGORIAN
PRODID:-//MyApp//Calendar 1.0//EN
BEGIN:VEVENT
METHOD:PUBLISH
UID:32151@regionalniportaly.cz
DTSTAMP:20260421T213428Z
DTSTART;VALUE=DATE:20230512
DTEND;VALUE=DATE:20230513
SUMMARY:Zrní
DESCRIPTION:Vřava napnutých lan hudby\, beaty kladenských uhelných strojů a melodie\, které zní dlouho vzadu v hlavě. Zrní jsou stopaři nových postupů\, spojují železitou pevnost se zvučným dřevem a uhýbají tomu\, co by se mělo.V posledních letech se Zrní pohybuje v meziprostoru alternativy a popkultury\, volí svou cestu a víří zcela vlastní prostředí. Kombinaci elektroniky a písničkářství vede autenticita a hra se zvukem i vlastními možnostmi. Ve své hudbě jdou vstříc tomu\, co jednoduše v člověku je.
LOCATION:Uherské Hradiště
END:VEVENT
END:VCALENDAR