BEGIN:VCALENDAR
VERSION:2.0
CALSCALE:GREGORIAN
PRODID:-//MyApp//Calendar 1.0//EN
BEGIN:VEVENT
METHOD:PUBLISH
UID:32152@regionalniportaly.cz
DTSTAMP:20260421T213547Z
DTSTART;VALUE=DATE:20230519
DTEND;VALUE=DATE:20230520
SUMMARY:7 pádů Honzy Dědka
DESCRIPTION:7 pádů Honzy DědkaPopulární talk-show českého novináře a publicisty Honzy Dědka.V programu vystoupí herečka a zpěvačka Kateřina Brožová\, herečka Lucie Benešová a herec Jaromír Nosek.Akce není vhodná pro osoby mladší 15 let.Akce se koná pod širým nebem\, zastřešení pro diváky zajištěno nebude.V případě deště není povoleno použití deštníků\, ale jsou doporučeny pláštěnky.
LOCATION:Louka
END:VEVENT
END:VCALENDAR