BEGIN:VCALENDAR
VERSION:2.0
CALSCALE:GREGORIAN
PRODID:-//MyApp//Calendar 1.0//EN
BEGIN:VEVENT
METHOD:PUBLISH
UID:32216@regionalniportaly.cz
DTSTAMP:20260421T151219Z
DTSTART;VALUE=DATE:20230428
DTEND;VALUE=DATE:20230430
SUMMARY:Pestrovečer 2023
DESCRIPTION:Pestrovečer nabízí prostor pro setkávání aktivních lidí i čas pro diskuze nad aktuálními tématy. Do našeho regionu přináší kvalitní divadlo\, méně tradiční hudbu mnoha žánrů a příležitosti pro mladé umělce. Pestrovečer inspiruje k aktivnímu zájmu o svět kolem nás.Chceme spojovat lidi\, kteří nejsou lhostejní ke svému okolí. Povzbudit je\, dobře pobavit\, propojit a motivovat!&nbsp\;Pestrovečer je dvoudenní multižánrový festival\, pořádaný Hnutím Brontosaurus a organizovaný plně dobrovolnicky s tradicí již šestnácti ročníků. Výtěžek z tomboly věnujeme každoročně dobročinné účely – již jsme podpořili Adopci na dálku\, záchranu Bělokarpatských pralesů\, výsadbu zeleně na Podluží\, budování včelařského arboreta v Lužicích či eko-zahrady Ekocentra Hodonín\, vyvěšování ptačích budek\, aj.
LOCATION:Mikulčice
END:VEVENT
END:VCALENDAR