BEGIN:VCALENDAR
VERSION:2.0
CALSCALE:GREGORIAN
PRODID:-//MyApp//Calendar 1.0//EN
BEGIN:VEVENT
METHOD:PUBLISH
UID:32288@regionalniportaly.cz
DTSTAMP:20260421T180437Z
DTSTART;VALUE=DATE:20230422
DTEND;VALUE=DATE:20230423
SUMMARY:NA STOJÁKA 2023
DESCRIPTION:Stand up comedy show.NA STOJÁKA (www.nastojaka.cz)Těší se na Vás&nbsp\;Iva PazderkováLukáš PavlásekDaniel Čech
LOCATION:Těmice
END:VEVENT
END:VCALENDAR