BEGIN:VCALENDAR
VERSION:2.0
CALSCALE:GREGORIAN
PRODID:-//MyApp//Calendar 1.0//EN
BEGIN:VEVENT
METHOD:PUBLISH
UID:32313@regionalniportaly.cz
DTSTAMP:20260421T231113Z
DTSTART;VALUE=DATE:20230701
DTEND;VALUE=DATE:20230702
SUMMARY:3. ročník Den pro mě
DESCRIPTION:3. ročník vydařeného festivalu Den pro mě vás zve si užít den\, na který jen tak nezapomenete!!&nbsp\;&nbsp\;Můžete se těšit na skvělé přednášky v rámci osobního rozvoje\, a to:&nbsp\;Karma a úkoly duše - Hana ŠťastnáAromaterapie v běžném životě - RNDR. Monika KašováCo nám partner\, tělo a život říká - Miroslav HrabicaČakry\, dech a léčivá síla křišťálu - Mirka Resslerová&nbsp\;Jako doprovodný program nebudou chybět lekce jógy a meditací ( ZDARMA\, jsou již v rámci vstupenky)\, výklad karet\, stánkový prodej\, kde se budou prodávat různé minerály\, ručně vyrobené zboží\, čaje a mnoho dalšího!
LOCATION:Bzenec
END:VEVENT
END:VCALENDAR