BEGIN:VCALENDAR
VERSION:2.0
CALSCALE:GREGORIAN
PRODID:-//MyApp//Calendar 1.0//EN
BEGIN:VEVENT
METHOD:PUBLISH
UID:32417@regionalniportaly.cz
DTSTAMP:20260421T225328Z
DTSTART;VALUE=DATE:20230613
DTEND;VALUE=DATE:20230614
SUMMARY:Když kočky nejsou doma | Amfík Bukovina
DESCRIPTION:Vynikající anglická komedie o tom\, co všechno se může stát\, když dvě sestry nenadále odjedou na společnou dovolenou a jejich muži zůstanou v Londýně bez dozoru. Pokus o celkem nevinný zálet se dvěma švagrům změní v nečekané dobrodružství plné napětí\, humoru a překvapivých zvratů ohrožujících celou jejich další existenci. Příběh dvou sester\, které si vzaly ty nepravé muže přijíždí k Vám do Brna!V hlavních rolích:Lukáš VACULÍK&nbsp\;Roman ŠTOLPAHana SRŠŇOVÁJana GALINOVÁJaroslava ZIMOVÁLenka LAVIČKOVÁ / Lucie RANDÁKOVÁ
LOCATION:Kunovice
END:VEVENT
END:VCALENDAR