BEGIN:VCALENDAR
VERSION:2.0
CALSCALE:GREGORIAN
PRODID:-//MyApp//Calendar 1.0//EN
BEGIN:VEVENT
METHOD:PUBLISH
UID:32475@regionalniportaly.cz
DTSTAMP:20260422T003840Z
DTSTART;VALUE=DATE:20230506
DTEND;VALUE=DATE:20230507
SUMMARY:Když se zhasne - Divadlo DONDI.
DESCRIPTION:Když se zhasne&nbsp\;- M. Doležalová&nbsp\;a R. VenclKomedie s písničkou!Trevor a Nina (Jonáš florián\,&nbsp\;Kristýna Budišová)&nbsp\;jsou manželský pár z vyšší newyorské společnosti. On je prominentní gynekolog\, ona majitelka a šéfkuchařka vyhlášené italské restaurace. Jejich manželství však nelze pokládat za ideální. Může za to předmanželská smlouva\, drsnější než pravidla amerického fotbalu: ten z manželů\, který podá návrh na rozvod\, přijde o veškerý majetek\, který tak automaticky připadne tomu druhému.Jsou Vánoce a Trevor s Ninou pořádají svůj tradiční večírek. Jedinými pozvanými hosty jsou poněkud výstřední manželé Imelda a Artur(Kateřina Černá\, David Macháček).&nbsp\;Na první pohled by se mohlo zdát\, že půjde o dost nudnou párty\, jenže to by ona předmanželská smlouva nesměla obsahovat maličký dodatek: ten z manželů\, který prokáže tomu druhému nevěru\, může požádat o rozvod a získá všechen majetek.Vánoční večírek se tak promění v rozvodové bitevní pole.Délka 1:50 s přestávkou
LOCATION:Uherské Hradiště
END:VEVENT
END:VCALENDAR