BEGIN:VCALENDAR
VERSION:2.0
CALSCALE:GREGORIAN
PRODID:-//MyApp//Calendar 1.0//EN
BEGIN:VEVENT
METHOD:PUBLISH
UID:32481@regionalniportaly.cz
DTSTAMP:20260421T231044Z
DTSTART;VALUE=DATE:20230520
DTEND;VALUE=DATE:20230521
SUMMARY:ULTRAZVUK Vec & Tono S. + Zverina & Škrupo / SK
DESCRIPTION:Slovenští mistři svého řemesla\, Vec a Tono S.\, přijedou do UH s projektem Ultrazvuk\, aby posluchačům vytříbeného hip hopu představili známé kvalitní tracky plné slovních hříček\, svérázného humoru a stále aktuální defektoskopie naší společnosti\, jak jsme u obou pánů zvyklí. Na pódiu jim bude v refrénech i mimo ně výrazně asistovat dvorní zpěvák Škrupo a těšit se můžete i na kultovního podtatranského matadora Zverinu.Slovenská rapová scéna by se dala charakterizovat jako Hra o trůny.&nbsp\;Mocenský boj silných rodů (rapperů) o fanouškovskou základnu\, postavení\, ale také o ukojení svého ega. Zatímco se nejmenovaní hašteří\, kopou kolem sebe a velebí své „JÁ“\, tak funkční veterán Vec a mistr punchlines Tono Suchota z&nbsp\;GR Teamu poukazují na fakt\, že se dá hudba dělat s&nbsp\;láskou\, pro lásku a obsahem. Ultrazvuk má koule\, přestože se jako drsňák z&nbsp\;Bronxu na omak netváří.&nbsp\;
LOCATION:Uherské Hradiště
END:VEVENT
END:VCALENDAR