BEGIN:VCALENDAR
VERSION:2.0
CALSCALE:GREGORIAN
PRODID:-//MyApp//Calendar 1.0//EN
BEGIN:VEVENT
METHOD:PUBLISH
UID:32649@regionalniportaly.cz
DTSTAMP:20260421T213708Z
DTSTART;VALUE=DATE:20230513
DTEND;VALUE=DATE:20230514
SUMMARY:Slovácký okruh - O cenu Milana Šobáně seniora XIX. ročník
DESCRIPTION:19. ročník motozávodů Slovácký okruh s podtitulem O cenu Milana Šobáně staršího se uskuteční o víkendu 13.-14. května 2023 ve Starém Městě u Uherského Hradiště.Kromě atraktivní podívané pro všechny fanoušky jedné stopy chystají organizátoři i bohatý doprovodný program pro velké i malé návštěvníky.Vše důležité najdete na webu&nbsp\;www.slovackyokruh.cz&nbsp\;VSTUPNÉDiváci se prokáží platnou online vstupenkou na základních kontrolních místech u přístupových uzlů. Dále bude také trať obcházet „výběrčí/kontrolor“ vstupného\, který se vždy před výběrem/kontrolou např. prokáže průkazem k danému výkonu. Výše vstupného je 100 Kč na dospělou osobu a den.&nbsp\;ZAKUPENÍM ONLINE VSTUPENKY UŠETŘÍTE ČAS U VSTUPU.&nbsp\;PRO DIVÁKYDiváci od roku 2022 budou mít tu čest pomáhat pořadatelům tím\, že náklady vyplývající z konání akce (výše cca 1\,2 milionu CZK) budou kompenzovat formou vstupného.&nbsp\;Po uhrazení vstupného nebo odbavení online vstupenky dostane divák barevný náramek na ruku\, který musí nosit viditelně na svém zápěstí. Uhrazení vstupného opravňuje platícího diváka vstupovat do depa.&nbsp\;Vstup je pouze na vlastní nebezpečí a platí zde povinnost dodržování organizačních opatření uvnitř depa – pouze levá strana a zanechání průjezdného pravého pruhu.&nbsp\;O ZÁVODNÍM OKRUHUDélka okruhu je 4200 m\, šíře trati 6–9 m\, převýšení 35 m\, jedná se o silniční okruh&nbsp\; s jednotným asfaltovým povrchem se 7 levými a 8 pravými zatáčkami. Závody se jezdí po směru hodinových ručiček.&nbsp\;DOPROVODNÝ&nbsp\;PROGRAMskákací hrady pro dědivýstava vetránů spojená s jízdoujízda po okruhu pro děti
LOCATION:Staré Město
END:VEVENT
END:VCALENDAR