BEGIN:VCALENDAR
VERSION:2.0
CALSCALE:GREGORIAN
PRODID:-//MyApp//Calendar 1.0//EN
BEGIN:VEVENT
METHOD:PUBLISH
UID:32758@regionalniportaly.cz
DTSTAMP:20260422T012324Z
DTSTART;VALUE=DATE:20231125
DTEND;VALUE=DATE:20231126
SUMMARY:Mňága a Žďorp - KD Bzenec
DESCRIPTION:Mňága a Žďorp je&nbsp\;kapela z Valašského Meziříčí působící na české hudební scéně od roku 1983 vznikala pod vedením zpěváka a kytaristy Petra Fialy. Trvalo osm let\, než vyplula z Moravy nenápadná nahrávka „Made In Valmez" od skupiny s podivným názvem\, jež v sobě mísila kouzelnou poetiku všednosti a zdravé lidskosti. Do povědomí se kapela zapsala hity jako Hodinový hotel\, Písnička pro tebe nebo Klec v kleci. Od té doby uplynula řada let\, během kterých kapela vydala 16 desek hořkosladkých songů nezaměnitelného rukopisu.&nbsp\;TOPOL&nbsp\;je Československý zvukový mistr (Kabát\, Chinaski\, Elán\, Wanastowi wjecy\, Lucie\, Klusymfonie\, Kryštof)\, který se&nbsp\;zpoza mixážního stolu&nbsp\;po mnoha letech vrací na pódium. Na počátku tohoto roku taky poprvé zahrála kapela TOPOL\,&nbsp\;hudební sdružení\, které spojuje velmi blízká krevní skupina a čirá touha tvořit\, hrát a zpívat písničky.
LOCATION:Bzenec
END:VEVENT
END:VCALENDAR