BEGIN:VCALENDAR
VERSION:2.0
CALSCALE:GREGORIAN
PRODID:-//MyApp//Calendar 1.0//EN
BEGIN:VEVENT
METHOD:PUBLISH
UID:32789@regionalniportaly.cz
DTSTAMP:20260421T231203Z
DTSTART;VALUE=DATE:20230705
DTEND;VALUE=DATE:20230706
SUMMARY:Divadlo Pecka - Normální debil
DESCRIPTION:Robert BellanNORMÁLNÍ DEBIL DENÍK PUBERŤÁKA ANEB MÉ DĚTSTVÍ V&nbsp\;SOCIALIZMURetro komedie Normální debil vznikla na motivy stejnojmenné knihy Roberta Bellana. Základem vyprávění jsou příhody z autorova dětství prožitého v&nbsp\;socialistickém Československu. Během večera plného humoru\, nadsázky i nostalgie se ocitneme například v&nbsp\;socialistické domácnosti\, ve škole\, na fotbalovém hřišti\, v&nbsp\;nemocnici\, nebo třeba i na překvapivě hřbitovním sexuálním večírku. Nedílnou součástí inscenace je dobová „Pop music“\, vysílání Československé televize a odborný pohled na psychický vulkanismus.Hrají: David Macháček\, Martin Vrtáček\, Anna Pospíchalová\, Alžběta Kynclová\, Tereza Hrabalová.
LOCATION:Popovice
END:VEVENT
END:VCALENDAR