BEGIN:VCALENDAR
VERSION:2.0
CALSCALE:GREGORIAN
PRODID:-//MyApp//Calendar 1.0//EN
BEGIN:VEVENT
METHOD:PUBLISH
UID:33425@regionalniportaly.cz
DTSTAMP:20260422T001803Z
DTSTART;VALUE=DATE:20230714
DTEND;VALUE=DATE:20230715
SUMMARY:Metalová legenda CITRON na Amífku Bukovina
DESCRIPTION:Koncert kapely Citron - české heavy metalové legendy v čele s Láďou Křížkem a Tanjou!Vstup do areálu od 19:0019:30 - předkapela BAST -&nbsp\;https://bandzone.cz/bast20:30 - Láďa Křížek &amp\; Tanja &amp\; CITRON
LOCATION:Popovice
END:VEVENT
END:VCALENDAR