BEGIN:VCALENDAR
VERSION:2.0
CALSCALE:GREGORIAN
PRODID:-//MyApp//Calendar 1.0//EN
BEGIN:VEVENT
METHOD:PUBLISH
UID:33426@regionalniportaly.cz
DTSTAMP:20260422T004007Z
DTSTART;VALUE=DATE:20230701
DTEND;VALUE=DATE:20230702
SUMMARY:Polemic (VIP zóna) - Slovácké léto 2023
DESCRIPTION:Užijte si koncert přední slovenské ska a reggae kapely Polemic se supportem No Barriers na Slováckém létě 2023 z pohodlí VIP zóny. Dobře uvidíte i uslyšíte a dáte si něco dobrého k pití na účet organizátorů.&nbsp\;
LOCATION:Uherské Hradiště
END:VEVENT
END:VCALENDAR