BEGIN:VCALENDAR
VERSION:2.0
CALSCALE:GREGORIAN
PRODID:-//MyApp//Calendar 1.0//EN
BEGIN:VEVENT
METHOD:PUBLISH
UID:33427@regionalniportaly.cz
DTSTAMP:20260421T230141Z
DTSTART;VALUE=DATE:20230703
DTEND;VALUE=DATE:20230704
SUMMARY:Alkehol + Halogen (VIP zóna) - Slovácké léto 2023
DESCRIPTION:Pamatujete\, jak na Slováckém létě hrál Alkehol? To byl rachot\, co? Letos si to pro pořádek zopakujeme\, i s předskokanem Halogen. A navíc máte možnost užít si jejich koncert luxusně\, v prostoru VIP zóny pro maximálně 50 návštěvníků\, s občerstvením a dalším zázemím.&nbsp\;
LOCATION:Uherské Hradiště
END:VEVENT
END:VCALENDAR