BEGIN:VCALENDAR
VERSION:2.0
CALSCALE:GREGORIAN
PRODID:-//MyApp//Calendar 1.0//EN
BEGIN:VEVENT
METHOD:PUBLISH
UID:33428@regionalniportaly.cz
DTSTAMP:20260422T003907Z
DTSTART;VALUE=DATE:20230704
DTEND;VALUE=DATE:20230705
SUMMARY:Kapitán DEMO (VIP zóna) - Slovácké léto 2023
DESCRIPTION:Poprvé na Slováckém létě! Originální a jedinečný Kapitán Demo se těší na všechna svá zlatíčka. Máme tušení\, že na Kapitána DEMO s podporou uherskobrodských Nohow bude docela narváno. Vy ale máte možnost užít si koncert ve VIP zóně pro maximálně 50 návštěvníků\, s pivem nebo vínem a příjemným zázemím.&nbsp\;
LOCATION:Uherské Hradiště
END:VEVENT
END:VCALENDAR