BEGIN:VCALENDAR
VERSION:2.0
CALSCALE:GREGORIAN
PRODID:-//MyApp//Calendar 1.0//EN
BEGIN:VEVENT
METHOD:PUBLISH
UID:33430@regionalniportaly.cz
DTSTAMP:20260421T213509Z
DTSTART;VALUE=DATE:20230706
DTEND;VALUE=DATE:20230707
SUMMARY:Reflexy + Honza Grebík (VIP zóna) - Slovácké léto 2023
DESCRIPTION:Kdo by neznal Reflexy? Tato vynikající kapela letos dosáhla 30 let a oslaví je i přímo na Slováckém létě\, kde zahraje své největší hity. Spolu s nimi se na festival vrátí i písničkář Honza Grebík. Vy můžete tyhle kulatiny oslavit jako VIP – v zóně pro nanejvýš 50 návštěvníků i s občerstvením v podobě piva\, vína a nealka.
LOCATION:Uherské Hradiště
END:VEVENT
END:VCALENDAR