BEGIN:VCALENDAR
VERSION:2.0
CALSCALE:GREGORIAN
PRODID:-//MyApp//Calendar 1.0//EN
BEGIN:VEVENT
METHOD:PUBLISH
UID:33431@regionalniportaly.cz
DTSTAMP:20260421T213519Z
DTSTART;VALUE=DATE:20230707
DTEND;VALUE=DATE:20230708
SUMMARY:Pokáč (VIP zóna) - Slovácké léto 2023
DESCRIPTION:Když přijel Pokáč na Slovácké léto poprvé\, málem zboural fotbalový stadion. A i když letos bude hrát na Masarykově náměstí\, opět očekáváme „plný dům“. Co takhle nemačkat se v davu\, ale zazpívat si s Pokáčem Kočku v pohodlí VIP zóny s pivem či vínem v ruce? Spolu s Pokáčem se na Slováckém létě už poněkolikáté představí i domácí akuStyk.
LOCATION:Uherské Hradiště
END:VEVENT
END:VCALENDAR