BEGIN:VCALENDAR
VERSION:2.0
CALSCALE:GREGORIAN
PRODID:-//MyApp//Calendar 1.0//EN
BEGIN:VEVENT
METHOD:PUBLISH
UID:33432@regionalniportaly.cz
DTSTAMP:20260421T213528Z
DTSTART;VALUE=DATE:20230708
DTEND;VALUE=DATE:20230709
SUMMARY:IMT Smile (VIP zóna) - Slovácké léto 2023
DESCRIPTION:IMT SMILE je prešovská hudební skupina\, kterou v roce 1992 založili bratři Ivan a Miro Táslerovi. Fanoušci Slováckého léta si o ně psali a říkali dlouhá léta a letos to konečně klaplo. Pokud si tuto dlouho očekávanou událost chcete vychutnat v pohodě a pohodlí\, využijte k tomu VIP zónu pro mezený počet návštěvníků a s občerstvením i zázemím. Jistě si tak lépe užijete i support kapely Kumpáni.&nbsp\;
LOCATION:Uherské Hradiště
END:VEVENT
END:VCALENDAR