BEGIN:VCALENDAR
VERSION:2.0
CALSCALE:GREGORIAN
PRODID:-//MyApp//Calendar 1.0//EN
BEGIN:VEVENT
METHOD:PUBLISH
UID:33638@regionalniportaly.cz
DTSTAMP:20260421T210010Z
DTSTART;VALUE=DATE:20230923
DTEND;VALUE=DATE:20230924
SUMMARY:Bene & The Cherries Párty
DESCRIPTION:Bene Pizza slaví 2 roky a proto vás zveme na velkolepou Oldies Párty s travesty vystoupením. Účinkovat budou Banánová Halina\, Broňa Show a The Cherries. Akce&nbsp\;&nbsp\;bude v Sokolovně která se nachází ve&nbsp\;Starém Měste ulice Jamnická&nbsp\;&nbsp\;
LOCATION:Staré Město
END:VEVENT
END:VCALENDAR