BEGIN:VCALENDAR
VERSION:2.0
CALSCALE:GREGORIAN
PRODID:-//MyApp//Calendar 1.0//EN
BEGIN:VEVENT
METHOD:PUBLISH
UID:33711@regionalniportaly.cz
DTSTAMP:20260422T004039Z
DTSTART;VALUE=DATE:20230704
DTEND;VALUE=DATE:20230705
SUMMARY:Renne Dang + liveband
DESCRIPTION:RENNE DANG + LIVEBAND | OFICIÁLNÍ AFTERPARTY SLOVÁCKÉHO BEACHOVÉHO LÉTAÚterý 4. července 2023 od 21 hodinRENNE DANGPopulární český rapper s vietnamskými kořeny míří do Uherského Hradiště.U toho nesmíš chybět!&nbsp\;www.no6.cz&nbsp\;www.instagram.com/discoclubno6&nbsp\;HAPPY HOUR na lodě a maxi drinky do 23:59&nbsp\;rezervace stolů na čísle 731 108 781&nbsp\;open 21:00&nbsp\;Support DJ Meyw
LOCATION:Uherské Hradiště
END:VEVENT
END:VCALENDAR