BEGIN:VCALENDAR
VERSION:2.0
CALSCALE:GREGORIAN
PRODID:-//MyApp//Calendar 1.0//EN
BEGIN:VEVENT
METHOD:PUBLISH
UID:34015@regionalniportaly.cz
DTSTAMP:20260422T001743Z
DTSTART;VALUE=DATE:20230714
DTEND;VALUE=DATE:20230715
SUMMARY:Torzo v parku
DESCRIPTION:Přijďte si užít skvělý večer plný hudby\, dobrého jídla a pití na akci "TORZO\, PIVO\, KLOBÁSY" v Letním kině ve Strážnici!&nbsp\;Od 20:00 vystoupí kapela TORZO a rozehřeje atmosféru svými energickými písněmi. Bude to nezapomenutelný hudební zážitek!Jako specialita dne pro vás máme připraveny grilované klobásy\, které vás zaručeně okouzlí svou šťavnatostí a chuťovou explozí. Budou to klobásy\, které si budete pamatovat!Na pití si můžete vychutnat čepovaný Radegast 10 a Plzeň 12\, nebo si dát osvěžující čepovanou kofolu. Kromě toho máme také širokou nabídku občerstvení\, včetně párků v rohlíku\, kuřecích stripsů\, hranolků s kečupem a domácích vaflí.Přijďte si užít skvělou atmosféru\, výborné jídlo a skvělou hudbu s přáteli a rodinou.Těšíme se na vás!Místo konání: Letní kino StrážniceDatum a čas: 14. 7. 2023\, od 20:00Dejte prosím "like" a sdílejte tuto událost\, abyste nepropásli nezapomenutelný večer plný zábavy!
LOCATION:Strážnice
END:VEVENT
END:VCALENDAR