BEGIN:VCALENDAR
VERSION:2.0
CALSCALE:GREGORIAN
PRODID:-//MyApp//Calendar 1.0//EN
BEGIN:VEVENT
METHOD:PUBLISH
UID:34021@regionalniportaly.cz
DTSTAMP:20260421T225338Z
DTSTART;VALUE=DATE:20230804
DTEND;VALUE=DATE:20230805
SUMMARY:CM Krepina
DESCRIPTION:Cimbálovou muziku Krepina můžete vidět na různých folklorních akcích a festivalech\, a to jak českých\, tak i zahraničních\, kde vystupují buďto samostatně nebo po boku souborů Danaj a Dánajek\, které doprovází. Repertoár muziky tvoří především hudba typická pro Strážnici a její okolí\, avšak ani jiné moravské či slovenské regiony jí nejsou cizí.Krepina zahraje v pondělí 4. 8. od 20:00 v letním kině Strážnice.Vezměte přátele\, přítele\, přítelkyně\, rodiče a stavte se třeba na skleničku. Těšíme se na Vás a Vy se taky máte na co těšit!Vstupné 100\,-
LOCATION:Strážnice
END:VEVENT
END:VCALENDAR