BEGIN:VCALENDAR
VERSION:2.0
CALSCALE:GREGORIAN
PRODID:-//MyApp//Calendar 1.0//EN
BEGIN:VEVENT
METHOD:PUBLISH
UID:34022@regionalniportaly.cz
DTSTAMP:20260421T201951Z
DTSTART;VALUE=DATE:20230811
DTEND;VALUE=DATE:20230812
SUMMARY:Pal Console + K4 Band
DESCRIPTION:Pal Console\, post-rocková parta z Brna má své kořeny právě ve Strážnici\, kam kapela také nasměřovala svůj první veřejný koncert. Instrumentální mix rocku a elektroniky s ambientními prvky je výsledkem syntézy hudebních vlivů bývalých členů rockové kapely MEDS\, jejichž řady posílil dlouholetý hudební partner a kamarád DJ Raduzzz\, který tvoří hudební tvář současné formace.K4 Band\, Jako kapela jsme se dali dohromady v létě 2017. Ze začátku jsme se sehrávali na cizích písních a postupně tvořili a přidávali písně vlastní. První vystoupení se konalo až na konci roku 2018 na akci Exhibice v muzice\, kde jsme měli možnost se představit s vlastní tvorbou a vyzkoušet si sehranost na pódiu. Od začátku jsme ve stejné sestavě: kytara + zpěv (David Dorda)\, sólová kytara (Matěj Mareš)\, basa (Radek Pavka) a na bicí (Radim Huf).
LOCATION:Strážnice
END:VEVENT
END:VCALENDAR