BEGIN:VCALENDAR
VERSION:2.0
CALSCALE:GREGORIAN
PRODID:-//MyApp//Calendar 1.0//EN
BEGIN:VEVENT
METHOD:PUBLISH
UID:34023@regionalniportaly.cz
DTSTAMP:20260421T205259Z
DTSTART;VALUE=DATE:20230819
DTEND;VALUE=DATE:20230820
SUMMARY:Veselí Jazz - Marek Kotača Improband
DESCRIPTION:Skupina Marek Kotača Improband zahraje 4. srpna 2023 na podiu před letním kinem Strážnice. Všichni jste zváni. Vezměte přátele\, přítele\, přítelkyně\, rodiče\, bude se Vám to jistě líbit! Těšíme se na Vás!
LOCATION:Strážnice
END:VEVENT
END:VCALENDAR