BEGIN:VCALENDAR
VERSION:2.0
CALSCALE:GREGORIAN
PRODID:-//MyApp//Calendar 1.0//EN
BEGIN:VEVENT
METHOD:PUBLISH
UID:34024@regionalniportaly.cz
DTSTAMP:20260421T201924Z
DTSTART;VALUE=DATE:20230818
DTEND;VALUE=DATE:20230819
SUMMARY:Rusty
DESCRIPTION:Přijďte se pobavit na koncert kapely RUSTY!Tato skvělá bluesrocková kapela vám přinese nezapomenutelný hudební zážitek\, připomínající styly jako Gary Moore\, Deep Purple\, ZZ Top\, Eric Clapton\, CCR Revival\, Rod Stewart\, Prince\, Glen Hughes\, AC/DC\, Led Zeppelin a mnoho dalších.&nbsp\;Sestava kapely je fenomenální: za kytaru a ke zpěvu se postaví Hynek Dlapal\, na basu Jirka Pešek\, na bicí David Křetínský a sólový zpěv zajišťuje Vlaďka Kobylková. Společně vytvoří neuvěřitelnou atmosféru\, která vás vtáhne do světa energického bluesrocku.&nbsp\;Koncert se koná v sobotu 1.7. od 20:00 u posezení vedle Letního kina Strážnice. Vstupné je pouze 100 Kč\, takže si nemůžete dovolit tuto výjimečnou událost vynechat. A abychom se všichni dobře najedli a napili\, zajišťujeme bohaté občerstvení.&nbsp\;Přijďte se bavit\, tancovat a prožít nezapomenutelný hudební večer s kapelou RUSTY! Těšíme se na vás!&nbsp\;Od 19:00 nám bude hrát kapela Duo Kolacia - Janoška\, poté nastoupí kapela RUSTY od 20:00
LOCATION:Strážnice
END:VEVENT
END:VCALENDAR