BEGIN:VCALENDAR
VERSION:2.0
CALSCALE:GREGORIAN
PRODID:-//MyApp//Calendar 1.0//EN
BEGIN:VEVENT
METHOD:PUBLISH
UID:34051@regionalniportaly.cz
DTSTAMP:20260421T220940Z
DTSTART;VALUE=DATE:20231208
DTEND;VALUE=DATE:20231209
SUMMARY:PIO SQUAD
DESCRIPTION:PIO SQUAD\, jihlavská formace \, která již dnes patří po víc než dvou dekádách existence k legendám domácího hip hopu. Její vznik se datuje do roku 1998 a v roce 2011 o sobě ještě pod názvem Jižní Pionýři dala vědět na kompilaci Lyrik Derby\, kde se podepsali pod skladbami Odpočinek a Noc a Den.Nová éra kapely započala v roce 2006 vydáním alba Punk is dead. Album přineslo\, krom změny názvu kapely\, také výraznou změnu jejich stylu a bylo dobře přijato\, což dokazuje i ocenění v rámci&nbsp\;ankety Anděl.Následovalo úspěšné album Interview a v roce 2016 vydali Pio Squad ještě ve složení Efko\, Eurodel\, De Puta Madre a DJ J-Kid &nbsp\;album Stromy v bouři\, za které získala svou&nbsp\;druhou sošku Anděla&nbsp\;v kategorii Nejlepší hip-hopová deska.Na konci roku 2021 kapelu opouští De Puta Madre\, posléze také J-Kid a po angažmá DJe Fluxe se sestava hip hopových matadorů ustálila v aktuálním složení Efko\, Eurodel a DJ Cut Dem\, který ve svém Sonic State studiu produkoval nejnovější kousek v obsáhlé diskografii\, album Torzo. To vyšlo koncem roku 2022 a hostuje na něm například Orion\, Čistychov \, ale také například mladá zpěvačka a rapperka&nbsp\;Baby G\, která nebude chybět ani na vystoupení na Metronome Festivalu. Pro Metronome festival si Pio Squad přichystali speciální exkluzivní vystoupení\, kde nesmí chybět nejnovější skladby\, ale také staré osvědčené hitovky a možná dorazí i nějaký speciální host.Pio Squad je stálicí domácí hudební sféry.&nbsp\;Na české hip-hop scéně spolupracovala se všemi zásadními jmény od Vladimira 518 a Hugo Toxxxe\, až ke slovenským hvězdám jako Moja Reč\, Zverina a Vec.&nbsp\;Nejznámější mimožánrovou spoluprací Pio Squad je pak spolupráce na skladbě s Jarkem Nohavicou nebo podobně koncipované spolupráci s rockery Cocotte Minute. V roce 2016 byli u zrodu projektu benefiční podpory dětí ve slumu Čalantika v Bangladéšské metropoli Dháka s názvem „PIO SQUAD FOR ČALANTIKA“. Videoklip pro podporu účtů\, šňůra koncertů\, spolupráce s humanitární organizací Adra a mediální podpora.Dále Pio Squad spolupracovali na hudbě s DJ Enemy\, DJ Wich\, Indy\, La4\, Wladimir 518\, Orion\, Vec\, Moja Reč\, Zverina\, Dtonate\, Dysmusax\, Marys\, Hugo Toxxx\, Kato\, Refew\, Čistychov\, Slipo\, Dannie\, Questablist crew\, Lůzer. Spolupracovali s legendami U.S.A. rapu jako: Smif n Wessun\, Tash\, Heltah Skeltah. Byli předkapelou legend jako Snoop Dogg (osobně si je vybral)\, Guru (Gang Starr)\, The Roots\, The Beatnuts\, Smif n Wessun\, Heltah Skeltah.Velký fanoušek kapely Richard JAY 68 má na svědomí celý večer\,který nebude jen o Pio Squad \, ale představí se i další rapující naděje\, beatboxeři nebo DJ´s...a po koncertu na sále očekávej barstage afterparty...radost až do rána
LOCATION:Uherské Hradiště
END:VEVENT
END:VCALENDAR