BEGIN:VCALENDAR
VERSION:2.0
CALSCALE:GREGORIAN
PRODID:-//MyApp//Calendar 1.0//EN
BEGIN:VEVENT
METHOD:PUBLISH
UID:34193@regionalniportaly.cz
DTSTAMP:20260421T225444Z
DTSTART;VALUE=DATE:20230802
DTEND;VALUE=DATE:20230803
SUMMARY:Můžem i s mužem
DESCRIPTION:Čtyři kamarádky v nejlepších letech se sejdou na oslavě Martiných narozenin v tajemném bytě\, kde se setkávají s úplně cizími lidmi. Na oslavě odhalují své nejhlubší touhy: Dita si prostě přeje\, aby všichni byli šťastní\, Marta je na lovu za mužem\, Marie se snaží získat zpět toho svého a Stella tvrdí\, že „je v&nbsp\;pohodě“. S postupujícím večerem si však všechny uvědomují\, že touží hlavně po lásce a porozumění. A&nbsp\;nadešel čas s tím něco udělat!
LOCATION:Ratíškovice
END:VEVENT
END:VCALENDAR