BEGIN:VCALENDAR
VERSION:2.0
CALSCALE:GREGORIAN
PRODID:-//MyApp//Calendar 1.0//EN
BEGIN:VEVENT
METHOD:PUBLISH
UID:34194@regionalniportaly.cz
DTSTAMP:20260422T012211Z
DTSTART;VALUE=DATE:20230808
DTEND;VALUE=DATE:20230809
SUMMARY:Myška Pattie: Na vlnách dobrodružství
DESCRIPTION:Rozzlobit některého z bohů ve starověkém Řecku rozhodně není dobrý nápad. A stárnoucí slavný hrdina Jason právě pořádně naštval samotného boha moří Poseidona. Zvídavou a neposednou myšku Pattie a jejího neohrabaného kočičího kamaráda Sama tak čeká hodně nebezpečný úkol. Po boku Jasona\, jehož město hrozí Poseidon zničit\, musí čelit nejnebezpečnějším tvorům mytologie.
LOCATION:Ratíškovice
END:VEVENT
END:VCALENDAR