BEGIN:VCALENDAR
VERSION:2.0
CALSCALE:GREGORIAN
PRODID:-//MyApp//Calendar 1.0//EN
BEGIN:VEVENT
METHOD:PUBLISH
UID:34195@regionalniportaly.cz
DTSTAMP:20260422T040836Z
DTSTART;VALUE=DATE:20230809
DTEND;VALUE=DATE:20230810
SUMMARY:Dvě slova jako klíč
DESCRIPTION:Na několika kontinentech se odehrávají příběhy o vztahu rodičů a dětí\, o osudu a o neznámých silách\, které řídí naše kroky. Japonský byznysman se chce smířit s&nbsp\;dcerou\, kterou jako malou opustil\, a vydává se s&nbsp\;ní na cestu do Himalájí. Stejně jako on\, i svobodná matka v&nbsp\;Česku dostane záhadný dopis se zásadní zprávou. Malíř a vyléčený alkoholik potkává krásnou ženu a s&nbsp\;ní i nečekanou možnost rodinného života. Spisovatel bere svého kamaráda a jejich vnitřní démony na výpravu do indonéské džungle. Kněz v&nbsp\;New Yorku se musí vypořádat se zvláštními sny a na samotě kdesi na břehu Baltského moře čeká starý muž na návštěvu syna.&nbsp\;Každý z&nbsp\;hrdinů stojí před zásadní změnou ve svém životě a jejich kroky mohou ovlivnit příběh toho druhého. Jejich samostatné cesty se začnou prolínat\, a nakonec se spojí do jednoho velkého příběhu života.
LOCATION:Ratíškovice
END:VEVENT
END:VCALENDAR