BEGIN:VCALENDAR
VERSION:2.0
CALSCALE:GREGORIAN
PRODID:-//MyApp//Calendar 1.0//EN
BEGIN:VEVENT
METHOD:PUBLISH
UID:34196@regionalniportaly.cz
DTSTAMP:20260421T230540Z
DTSTART;VALUE=DATE:20230813
DTEND;VALUE=DATE:20230814
SUMMARY:S čerty nejsou žerty
DESCRIPTION:V jednom malém knížectví žijí všichni\, kdo ve správné pohádce nesmějí chybět. Stárnoucí kníže\, kterého už nebaví vládnout\, jeho dvě dcery - zlomyslná\, nafoukaná Angelina a skromná\, pohledná Adélka\, vychytralý správce\, který se stará jen o to\, jak naplnit vlastní měšec na úkor knížecí pokladny\, čestný Petr\, kterého se zlá a chtivá macecha Dorota Máchalová snaží se správcem připravit o rodný mlýn. A taky je tu peklo\, které pečlivě sleduje všechny špatné skutky a v pravou chvíli rázně zakročí. A tak když se čas naplní\, je vyslán mladý čert Janek\, aby přinesl do pekla zlou Dorotu. Omylem však přinese Petrovu hodnou babičku\, a když se pokouší chybu napravit\, skončí s Petrem v knížecím vojsku. Ten pro změnu prchal před intrikami správce a jistě by drábům utekl\, jenže pak se zdržel\, protože s nasazením života zachránil knížecí dcery\, když zastavil jejich kočár se splašenými koňmi. Petr a Janek se skamarádí a Petr se nabídne\, že čertovi pomůže dokončit úkol. Dokonce i ve dvou však nebude snadný\, protože Dorota má vždy po ruce nějaké to pírko\, které je pro čerta pohromou.
LOCATION:Ratíškovice
END:VEVENT
END:VCALENDAR