BEGIN:VCALENDAR
VERSION:2.0
CALSCALE:GREGORIAN
PRODID:-//MyApp//Calendar 1.0//EN
BEGIN:VEVENT
METHOD:PUBLISH
UID:34197@regionalniportaly.cz
DTSTAMP:20260421T201941Z
DTSTART;VALUE=DATE:20230816
DTEND;VALUE=DATE:20230817
SUMMARY:Mimoni 2: Padouch přichází
DESCRIPTION:V neutuchající touze najít toho největšího padoucha všech dob\, aby mu mohli věrně sloužit\, narazí Mimoni na malého nosatého černovlasého chlapce\, který vyrůstá jen se svou německou matkou. Jmenuje se Gru a aniž to tuší\, tohle setkání mu zásadně změní život.
LOCATION:Ratíškovice
END:VEVENT
END:VCALENDAR