BEGIN:VCALENDAR
VERSION:2.0
CALSCALE:GREGORIAN
PRODID:-//MyApp//Calendar 1.0//EN
BEGIN:VEVENT
METHOD:PUBLISH
UID:34198@regionalniportaly.cz
DTSTAMP:20260421T210732Z
DTSTART;VALUE=DATE:20230820
DTEND;VALUE=DATE:20230821
SUMMARY:ONEMANSHOW - The Movie
DESCRIPTION:Přísně utajovaný projekt\, na kterém&nbsp\;Kazma&nbsp\;a jeho tým pracovali přes 4 roky\, vstupuje historicky poprvé jako&nbsp\;ONEMANSHOW&nbsp\;v celovečerním formátu do kin. Unikátní film mění dosud zaběhnutá pravidla kinematografie a jako jediný na světě bere diváky za hranice filmového plátna do opravdové reality.
LOCATION:Ratíškovice
END:VEVENT
END:VCALENDAR