BEGIN:VCALENDAR
VERSION:2.0
CALSCALE:GREGORIAN
PRODID:-//MyApp//Calendar 1.0//EN
BEGIN:VEVENT
METHOD:PUBLISH
UID:34322@regionalniportaly.cz
DTSTAMP:20260421T232806Z
DTSTART;VALUE=DATE:20230825
DTEND;VALUE=DATE:20230826
SUMMARY:Psychorhyme Klub Mír
DESCRIPTION:PSYCHO RHYME v Uherském Hradišti25. 8. 202321:00 - 0:00Klub Mír\, Uherské Hradiště&nbsp\;Rapper a hudební producent Psycho RhymePoprvé se představí v Klubu Mír v Uherském HradištiNa této akci nesmíš chybět\, skvělá hudba od začátku až do konce&nbsp\;TĚŠIT SE MŮŽETE NA:️VIP vstupenky\, které zahrnují meet and greet a další️Skvělou show a hudbu po celý večer️Alkohol na baru&nbsp\;LINE UP:DJ KadrDj CakePsycho Rhyme&nbsp\;️TĚŠÍME SE NA VÁS
LOCATION:Uherské Hradiště
END:VEVENT
END:VCALENDAR