BEGIN:VCALENDAR
VERSION:2.0
CALSCALE:GREGORIAN
PRODID:-//MyApp//Calendar 1.0//EN
BEGIN:VEVENT
METHOD:PUBLISH
UID:34357@regionalniportaly.cz
DTSTAMP:20260422T023052Z
DTSTART;VALUE=DATE:20231027
DTEND;VALUE=DATE:20231028
SUMMARY:MKLV FEST ON TOUR | Kali & Peter Pann\, Sima | Dubňany
DESCRIPTION:KALI &amp\; PETER PANN a SIMA míří do Dubňan! V rámci MKLV FEST ON TOUR vystoupí v Dubňanech&nbsp\;už 27.10.2023. Neměli jste toho v Mikulově dost?! Tak si to dáme ještě jednou a víc! Celou akcí vás provede DJ STYX\, který vám připraví skvělý warm up a taky after party. Pojďte to s nimi rozparádit\, bude to 🔝!..Vstupenky v předprodeji 499\,- na místě 599\,-&nbsp\;
LOCATION:Dubňany
END:VEVENT
END:VCALENDAR