BEGIN:VCALENDAR
VERSION:2.0
CALSCALE:GREGORIAN
PRODID:-//MyApp//Calendar 1.0//EN
BEGIN:VEVENT
METHOD:PUBLISH
UID:34523@regionalniportaly.cz
DTSTAMP:20260421T232727Z
DTSTART;VALUE=DATE:20231021
DTEND;VALUE=DATE:20231022
SUMMARY:Poletíme?
DESCRIPTION:Kapela umí odlehčenou formou vyprávět o složitých a smutných věcech tak\, že jejich koncerty dýchají barevnou náladou\, svižnou rytmikou a tanečními kreacemi publika. Diváci se budou smát\, výskat\, tančit nebo přeběhne jim mráz po zádech\, když v písni pojmenují jejich problém. Vtipné\, poetické a přímočaré texty jsou totiž devízou kapely.Poletíme? se bezpečně zařadili ke špičce české hudební scény. Jejich koncerty bývají po celé republice narvané a za dobu své existence se stali koncertní jistotou\, která umí roztančit všechny věkové kategorie bez rozdílu.Kapelníkem\, zpěvákem\, textařem a zásadní osobností kapely je charismatický výtvarník Rudolf Brančovský. Umělcův netrénovaný hlas stojí na podiu stejně sebejistě jako starý kapitán dávné plachetnice pevně rozhodnutý obeplout svět. Jeho posádku pak tvoří sedm mořských vlků\, kteří přesně vědí\, co mají dělat\, aby bláznivá plavba dopadla dobře. Přes fakt\, že lodě plují na vodě\, se posádka nevzdává naděje\, že jednou s touto plachetnicí poletí.“Složení kapely:Rudolf Brančovský – kytara\, zpěvJáchym Hájek – trubkaPavel Križovenský – saxofon\, příčná flétnaVojta Konečný – housleOndřej Hájek – pianoVít Kraváček – basová kytaraMichal Jež – bicíJosef Zámečník – banjo\, kytaraMocný support ze Slovenska :&nbsp\;Heľenine oči&nbsp\;- multižánrová kapela lokálneho významu s globálnym dosahom. Prešovská úderka\, najlepšia a zároveň najskromnejšia kapela na svete. :D.Využíva kombináciu prvkov&nbsp\;metalu\,&nbsp\;ska\,&nbsp\;reggae\,&nbsp\;folku&nbsp\;a&nbsp\;rocku.Zoskupenie Heľenine oči absolvovalo počas svojho doterajšieho pôsobenia množstvo festivalov a klubových koncertov po celom&nbsp\;Slovensku\,&nbsp\;Česku\,&nbsp\;Poľsku\,&nbsp\;Holandsku\,&nbsp\;Spojených štátoch\, či&nbsp\;Írsku.První vlna vstupenek na smsticket se blíží vyprodání \, druhá vlna je za 355 kč \,nicméně v klubu zakoupíte stále za 315 kč lístek fyzicky - tak neváhej a šup za barmanem pro lupen
LOCATION:Uherské Hradiště
END:VEVENT
END:VCALENDAR