BEGIN:VCALENDAR
VERSION:2.0
CALSCALE:GREGORIAN
PRODID:-//MyApp//Calendar 1.0//EN
BEGIN:VEVENT
METHOD:PUBLISH
UID:34524@regionalniportaly.cz
DTSTAMP:20260421T232756Z
DTSTART;VALUE=DATE:20231028
DTEND;VALUE=DATE:20231029
SUMMARY:SPS - 35 let tour
DESCRIPTION:Průřez 35 letou tvorbou této legendy nás čeká v klubu poslední říjnovou sobotu.Natuž číro\,obuj pogobotky a vyraž na punkovou metelici páč to bude stát za to.Jako hosta si SPSka pozvali bratislavskou punkovou úderku Dafy and the Rafterswww.facebook.com/DafyandtheRafters/
LOCATION:Uherské Hradiště
END:VEVENT
END:VCALENDAR