BEGIN:VCALENDAR
VERSION:2.0
CALSCALE:GREGORIAN
PRODID:-//MyApp//Calendar 1.0//EN
BEGIN:VEVENT
METHOD:PUBLISH
UID:34558@regionalniportaly.cz
DTSTAMP:20260421T222959Z
DTSTART;VALUE=DATE:20230901
DTEND;VALUE=DATE:20230902
SUMMARY:Last summer party | NFIX & CANDICE
DESCRIPTION:Last summer party s NFIX&amp\;CANDICEPátek 1. září od 21 hodinVSTUP 16+!!!Jedni z nejpopulárnějších jmen na české EDM scéně opět po dlouhé pauze přijíždí do Uherského HradištěPořádně to rozjedeme a užijeme si poslední "prázdninovou" party!Prestižní akce Clubu pod taktovkou NFIX &amp\; CANDICE&nbsp\;www.no6.cz&nbsp\;https://no6.cz/n-akce-a-novinky&nbsp\;www.instagram.com/discoclubno6&nbsp\;Happy hour na lodě a maxi drinky do 23:59&nbsp\;support DJ: SKAP\, Marek Lukeš&nbsp\;rezervace stolů na tel. 731 108 781
LOCATION:Uherské Hradiště
END:VEVENT
END:VCALENDAR