BEGIN:VCALENDAR
VERSION:2.0
CALSCALE:GREGORIAN
PRODID:-//MyApp//Calendar 1.0//EN
BEGIN:VEVENT
METHOD:PUBLISH
UID:34601@regionalniportaly.cz
DTSTAMP:20260422T031827Z
DTSTART;VALUE=DATE:20230908
DTEND;VALUE=DATE:20230909
SUMMARY:FESTPÁRTY - Klub Mír
DESCRIPTION:Přijď na první FESTPÁRTY v klubu Mír v Hradišti!&nbsp\;Můžeš se těšit na speciální hosty\, rapovou show\, DnB\, a taneční elektronickou hudbu.&nbsp\;Tohle nebude klasická rapová show\, ale jedna velká párty!&nbsp\;Interpreti a DJ´s budou odhaleni brzy!&nbsp\;Vstup:Na místě: 300&nbsp\;&nbsp\;
LOCATION:Uherské Hradiště
END:VEVENT
END:VCALENDAR