BEGIN:VCALENDAR
VERSION:2.0
CALSCALE:GREGORIAN
PRODID:-//MyApp//Calendar 1.0//EN
BEGIN:VEVENT
METHOD:PUBLISH
UID:34753@regionalniportaly.cz
DTSTAMP:20260421T232839Z
DTSTART;VALUE=DATE:20230927
DTEND;VALUE=DATE:20230928
SUMMARY:Futurre Friends | CLUB NO.6
DESCRIPTION:FUTURE FRIENDS se vrací do Uherského Hradiště!Už ve středu 27. září\, tak si tuhle studentskou party nenech ujít!&nbsp\;&nbsp\;Vstup 16+Vstupné 150\,-&nbsp\;&nbsp\;www.no6.cz&nbsp\;https://no6.cz/n-akce-a-novinky&nbsp\;www.instagram.com/discoclubno6&nbsp\;happy hour na lodě a maxi drinky do 23:59&nbsp\;support DJ : VITEX&nbsp\;rezervace stolů na čísle 731 108 781&nbsp\;
LOCATION:Uherské Hradiště
END:VEVENT
END:VCALENDAR