BEGIN:VCALENDAR
VERSION:2.0
CALSCALE:GREGORIAN
PRODID:-//MyApp//Calendar 1.0//EN
BEGIN:VEVENT
METHOD:PUBLISH
UID:34900@regionalniportaly.cz
DTSTAMP:20260421T235712Z
DTSTART;VALUE=DATE:20230908
DTEND;VALUE=DATE:20230910
SUMMARY:Peacock in da park vol. 5: Metál sa vracá do parku
DESCRIPTION:Peacock in da park vol. 5: Metál sa vracá do parkuPátek 8.9.17:00 Tomáš David &amp\; Naive Collective18:00 HiJakcs19:00 StBend20:00 Franc Alpa21:30 ATAK22:30 SHAARKSOBOTU NEHLEDAJ\, TO JE VINOBRANÍ NA NÁMĚSTÍNeděle 10.9.16:00 CM JOŽKY ŠŤASTNÉHO17:00 FERRUM19:00 FOTŘIVstupné: pátek 200 Kč\, neděle 100 Kč\, oba dva dny 250 KčPředprodej vstupenek v bufetě Letního kina nebo v hospůdce u Polámané branky.&nbsp\;On-line předprodej&nbsp\;
LOCATION:Strážnice
END:VEVENT
END:VCALENDAR