BEGIN:VCALENDAR
VERSION:2.0
CALSCALE:GREGORIAN
PRODID:-//MyApp//Calendar 1.0//EN
BEGIN:VEVENT
METHOD:PUBLISH
UID:34992@regionalniportaly.cz
DTSTAMP:20260422T005623Z
DTSTART;VALUE=DATE:20231013
DTEND;VALUE=DATE:20231014
SUMMARY:DORIAN
DESCRIPTION:DORIANPátek 13. října 2023 od 21 hodinJeden z nejznámějších rapperů české hudební scény se po roce vrací do Uherského Hradiště!VSTUP 16+REZERVACE STOLŮ NA TEL. 731 108 781
LOCATION:Uherské Hradiště
END:VEVENT
END:VCALENDAR