BEGIN:VCALENDAR
VERSION:2.0
CALSCALE:GREGORIAN
PRODID:-//MyApp//Calendar 1.0//EN
BEGIN:VEVENT
METHOD:PUBLISH
UID:35179@regionalniportaly.cz
DTSTAMP:20260421T222949Z
DTSTART;VALUE=DATE:20230923
DTEND;VALUE=DATE:20230924
SUMMARY:XVII. HOT DOG fest
DESCRIPTION:XVII. HOT DOG fest&nbsp\;- po roce se opět můžete těšit na festival metalové hudby v legendárním klubu Mír v Uh.Hradišti.Jeden den dvě podia - 10 kapel !
LOCATION:Uherské Hradiště
END:VEVENT
END:VCALENDAR