BEGIN:VCALENDAR
VERSION:2.0
CALSCALE:GREGORIAN
PRODID:-//MyApp//Calendar 1.0//EN
BEGIN:VEVENT
METHOD:PUBLISH
UID:35205@regionalniportaly.cz
DTSTAMP:20260421T232656Z
DTSTART;VALUE=DATE:20231029
DTEND;VALUE=DATE:20231030
SUMMARY:Waltari ( FN )
DESCRIPTION:Waltari v Uherském Hradišti? Ano\, je to tak! Finská kapela Waltari zde zahraje skoro po třiceti letech! Na tomto velkolepém večírku\, je doprovodí HANZ FUCKER´S&nbsp\;a čeští Six Degrees Of Seperation...&nbsp\;WALTARI&nbsp\;HANZ FVCKER´SSIX DEGREES OF SEPERATION&nbsp\;MOON SHOT&nbsp\;
LOCATION:Uherské Hradiště
END:VEVENT
END:VCALENDAR