BEGIN:VCALENDAR
VERSION:2.0
CALSCALE:GREGORIAN
PRODID:-//MyApp//Calendar 1.0//EN
BEGIN:VEVENT
METHOD:PUBLISH
UID:35206@regionalniportaly.cz
DTSTAMP:20260422T005633Z
DTSTART;VALUE=DATE:20231209
DTEND;VALUE=DATE:20231210
SUMMARY:Mikulášská Grindovačka
DESCRIPTION:Metal Feast agency uvádí třetí ročník mikulášské grindcorové nadílky v Klubu Mír v Uherském Hradišti.Největší metalová akce podzimu na Uhersko Hradišťsku.---------------------------------------------------------------------------Vstupné : 500/600 CZKLístky je možné zakoupit na baru v klubu Mír od 18.9. a nebo již nyní rezervovat přes náš mail metalfeastagency@gmail.com---------------------------------------------------------------------------GUTALAX ( gore )ČAD ( crust )INSISTENT ( grind )MARNO ( neo-crust )FLESHLESS ( death - grind )DMC ( death metal )SEE YOU IN HELL ( crust / punk )PURULENT SPERMCANAL (cannibalistic grind)
LOCATION:Uherské Hradiště
END:VEVENT
END:VCALENDAR