BEGIN:VCALENDAR
VERSION:2.0
CALSCALE:GREGORIAN
PRODID:-//MyApp//Calendar 1.0//EN
BEGIN:VEVENT
METHOD:PUBLISH
UID:35226@regionalniportaly.cz
DTSTAMP:20260421T232746Z
DTSTART;VALUE=DATE:20231014
DTEND;VALUE=DATE:20231015
SUMMARY:Hodové folklorní taneční - Horňácké sedlácké
DESCRIPTION:V rámci příprav na Svatomartinské hody ve Strážnici vás folklorní soubor Demižón zve na folklorní taneční pro veřejnost.&nbsp\;Kdy:&nbsp\;14.října 2023 v 16:00Kde:&nbsp\;Strážnice\, Masarykova 370 - Tělocvična Orlovny (vchod z uličky)Co: Horňácká sedláckáLektor: Ladislav "Jožíček" Jagoš (FS Lipovjan) z LipovaVěkové omezení: Není! Akce je určena pro všechny věkové kategorie.&nbsp\;Vstup není podmíněn přivedením tanečního partnera\, ale jelikož se jedná o párové tance\, je to určitě výhoda.&nbsp\;S sebou pohodlné sportovní sálové oblečení a dobrou náladu.Možnost koupě menšího občerstvení zajištěna.
LOCATION:Strážnice
END:VEVENT
END:VCALENDAR