BEGIN:VCALENDAR
VERSION:2.0
CALSCALE:GREGORIAN
PRODID:-//MyApp//Calendar 1.0//EN
BEGIN:VEVENT
METHOD:PUBLISH
UID:35290@regionalniportaly.cz
DTSTAMP:20260422T000359Z
DTSTART;VALUE=DATE:20231125
DTEND;VALUE=DATE:20231126
SUMMARY:The Atavists
DESCRIPTION:Rocková kapela ovlivněná styly surf a stoner.The Atavists získali dvě hudební&nbsp\;ceny Anděl&nbsp\;–&nbsp\;Objev roku&nbsp\;a&nbsp\;Nejlepší rockové album&nbsp\;(za Lo-Fi Life). První singl z tohoto alba s názvem Wrong slavil své úspěchy v éteru Evropy2\, kde se opakovaně držel jako jednička v žebříčku.V květnu 2019 si management britské kapely&nbsp\;Muse&nbsp\;vybral The Atavists jako předkapelu pro pražskou zastávku turné The Simulation Theory 2019 na letišti v pražských Letňanech. V červenci 2019 pak skupina otevírala legendárním&nbsp\;Skunk Anansie v pražském Foru Karlin.V současné době se The Atavists dostávají do hledáčku zahraničních promotérů a připravují se na turné po zemích střední a západní Evropy. Loni vyšlo třetí studiové album s názvem „Prettier Than You.youtu.be/3d5vHlfbZvM
LOCATION:Uherské Hradiště
END:VEVENT
END:VCALENDAR