BEGIN:VCALENDAR
VERSION:2.0
CALSCALE:GREGORIAN
PRODID:-//MyApp//Calendar 1.0//EN
BEGIN:VEVENT
METHOD:PUBLISH
UID:35439@regionalniportaly.cz
DTSTAMP:20260421T235308Z
DTSTART;VALUE=DATE:20231202
DTEND;VALUE=DATE:20231203
SUMMARY:Tata Bojs
DESCRIPTION:Naživo vidět Tata bojs je epochální zážitek a to už jen proto\,že v klubu Mír hráli naposledy v minulém století.Tak si přijď užít koncert a nezaváhej&nbsp\;MILAN CAISzpěv\, bicí\, (o)smyčky\, klávesy\, basa\, kytara\, ptáčci\, tleskáníMARDOŠAbasa\, iPad\, tleskáníVladimír Bár – kytara&nbsp\;Matěj Belko – klávesy\, kytaraDušan Neuwerth – zvukTomáš Neuwerth – host bicí
LOCATION:Uherské Hradiště
END:VEVENT
END:VCALENDAR