BEGIN:VCALENDAR
VERSION:2.0
CALSCALE:GREGORIAN
PRODID:-//MyApp//Calendar 1.0//EN
BEGIN:VEVENT
METHOD:PUBLISH
UID:35482@regionalniportaly.cz
DTSTAMP:20260422T040750Z
DTSTART;VALUE=DATE:20240419
DTEND;VALUE=DATE:20240420
SUMMARY:Mńága a Žďorp
DESCRIPTION:Úplně nejvíc hitová kapela\,jejíž songy máme všichni pod kůží.
LOCATION:Uherské Hradiště
END:VEVENT
END:VCALENDAR