BEGIN:VCALENDAR
VERSION:2.0
CALSCALE:GREGORIAN
PRODID:-//MyApp//Calendar 1.0//EN
BEGIN:VEVENT
METHOD:PUBLISH
UID:35594@regionalniportaly.cz
DTSTAMP:20260421T210020Z
DTSTART;VALUE=DATE:20231119
DTEND;VALUE=DATE:20231120
SUMMARY:DEN BLBEC\, 1. premiéra – Divadlo Pecka
DESCRIPTION:Robert BellanDEN BLBECKrimi parodie na motivy hry W. Shakespeara Romeo a JulieMajor Vetchý a poručík Teplý vyšetřují záhadnou smrt dvou Shakespearovských postav – Tybalta a Merkutia. Dva rody\, oba stejně vážené\, jež vedou léta proti sobě boj\, zas vyvolali nový nepokoj. Smrtí však klasický příběh nekončí\, smrtí začíná\, a na konci budete se smát. Nebo bát. Nebo smát a plakat. Nebo spát. Jak se vám líbí! Ale to už je jiná komedie.V&nbsp\;původní Shakespearově hře Romeo a Julie figuruje celkem 27 postav. Obvykle divadla při nasazení této klasiky obsadí každého\, kdo je po ruce: vrátné\, kulisáky\, špatné herce na odpočinku\, údržbáře i děvčata z kanceláří. V&nbsp\;této hře rozhodně tolik špatných herců neuvidíte. Z&nbsp\;praktických i kvalitativních důvodů jsme se totiž rozhodli zahrát vám tento kus pouze v&nbsp\;pěti lidech. Ale nebojte se\, o žádnou ze známých Shakespearovských postav ochuzeni nebudete. Dokonce jsme ještě dvě nové hlavní postavy přidali.A pokud se vám vlídně na tuto taškařici hledět zlíbí\, svou snahou nahradíme\, co nám chybí.Hrají: D. Macháček\, M. Vrtáček\, A. Pospíchalová. M. Horká\, D. Vaculík/V. Gabrhelík
LOCATION:Staré Město
END:VEVENT
END:VCALENDAR